BEGIN:VCALENDAR
VERSION:2.0
PRODID:-//British Octopush Association//NONSGML GBUWH Event//EN
METHOD:REQUEST
BEGIN:VEVENT
LOCATION: John Charles Aquatic Centre, Leeds
UID:event-9b698eb3105bd82528f23d0c92dedfc0@gbuwh.co.uk
DTSTAMP:20230701T080000
DTSTART:20230701T080000
DTEND:20230702T150000
SUMMARY:GB Elite Training Camp - July 2023
DESCRIPTION: GB Elite Training Camp Directions\: https://www.google.com/maps/dir//53.764305,-1.541945
END:VEVENT
END:VCALENDAR
