BEGIN:VCALENDAR
VERSION:2.0
PRODID:-//British Octopush Association//NONSGML GBUWH Event//EN
METHOD:REQUEST
BEGIN:VEVENT
LOCATION: Plymouth Life Centre, Mayflower Drive, Plymouth, PL2 3DG
UID:event-d5cfead94f5350c12c322b5b664544c1@gbuwh.co.uk
DTSTAMP:20250719T120000
DTSTART:20250719T120000
DTEND:20250720T150000
SUMMARY:GB Elite Training Camp - July 2025 - Plymouth
DESCRIPTION: GB Elite Squads Training Camp3m dive pit booked as below:Saturday 1pm to 6pmSunday 9am to 3pm Directions\: https://www.google.com/maps/dir//50.386732204693494,-4.152887764007973
END:VEVENT
END:VCALENDAR
