BEGIN:VCALENDAR
VERSION:2.0
PRODID:-//British Octopush Association//NONSGML GBUWH Event//EN
METHOD:REQUEST
BEGIN:VEVENT
LOCATION: 
UID:event-e995f98d56967d946471af29d7bf99f1@gbuwh.co.uk
DTSTAMP:20240716T000000
DTSTART:20240716T000000
DTEND:20240727T000000
SUMMARY:CMAS 6th Age Group World Championship
DESCRIPTION: CMAS 6th Underwater Hockey Age Group World Championship Directions\: https://www.google.com/maps/dir//3.193101997,101.7167824
END:VEVENT
END:VCALENDAR
