BEGIN:VCALENDAR
VERSION:2.0
PRODID:-//British Octopush Association//NONSGML GBUWH Event//EN
METHOD:REQUEST
BEGIN:VEVENT
LOCATION: Crown Pools, Crown St, Ipswich IP1 3JA
UID:event-2dace78f80bc92e6d7493423d729448e@gbuwh.co.uk
DTSTAMP:20250208T140000
DTSTART:20250208T140000
DTEND:20250208T180000
SUMMARY:East Anglia/ South East regional
DESCRIPTION: We want to continue to establish a network of local clubs in the region to foster for future events‬.We shall have the same format as last year including T-shirts and a pizza‬&nbsp‭together in the party breakout area at the pool.‬‭Our tournament aims:-‬‭●‬ ‭Have a good time‬‭●‬ ‭Inspire our juniors to play more Octopush and attend future competitions‬‭●‬ ‭Pick up new skills from fellow competitors‬ Directions\: https://www.google.com/maps/dir//52.05982940782092,1.1543538573012906
END:VEVENT
END:VCALENDAR
