BEGIN:VCALENDAR
VERSION:2.0
PRODID:-//British Octopush Association//NONSGML GBUWH Event//EN
METHOD:REQUEST
BEGIN:VEVENT
LOCATION: Aberdeen Sports Village
UID:event-28267ab848bcf807b2ed53c3a8f8fc8a@gbuwh.co.uk
DTSTAMP:20250524T123000
DTSTART:20250524T123000
DTEND:20250524T200000
SUMMARY:SNOT 2025
DESCRIPTION: Scottish National Octopush Tournament 2025!Poolside from 1pm.Food included in tournament entry fee from 1930 at the Northern Bowling Club.The SUHA AGM may be beforehand from 1100-1200. Directions\: https://www.google.com/maps/dir//,
END:VEVENT
END:VCALENDAR
