BEGIN:VCALENDAR
VERSION:2.0
PRODID:-//British Octopush Association//NONSGML GBUWH Event//EN
METHOD:REQUEST
BEGIN:VEVENT
LOCATION: NA
UID:event-43fa7f58b7eac7ac872209342e62e8f1@gbuwh.co.uk
DTSTAMP:20260516T070000
DTSTART:20260516T070000
DTEND:20260516T180000
SUMMARY:Cancelled - Nautilus Qualification Tournament 2026
DESCRIPTION: Note - during 2026 we will be trialling adding a 7th Division to the Nautilus Competition which will be held on the 24th of October 2026 therefore, the qualification event will no longer take place. Please register your team on the events page.&nbspMore details to follow...Rachel HickeyCompetitions Manager Directions\: https://www.google.com/maps/dir//,
END:VEVENT
END:VCALENDAR
