BEGIN:VCALENDAR
VERSION:2.0
PRODID:-//British Octopush Association//NONSGML GBUWH Event//EN
METHOD:REQUEST
BEGIN:VEVENT
LOCATION: Ponds Forge, Sheaf St, Sheffield S1 2BP
UID:event-31839b036f63806cba3f47b93af8ccb5@gbuwh.co.uk
DTSTAMP:20260606T070000
DTSTART:20260606T070000
DTEND:20260607T150000
SUMMARY:National Finals 2026
DESCRIPTION: The BOA is excited to announce that based on feedback the 2026 BOA National Finals competition will be held over two days. Games will be more aligned to CMAS international events.&nbspThe Round Robin and quarter finals will be held on Saturday and the Semi Finals and Finals (including the final seeding games) will be held on Sunday with the event drawing to a close at approximately 2pm.The Divisions will be as follows:&nbspChampionship:1. Yorkshire A2. Southsea A3. Manchester A4. TSW A5. West London A6. Dunstable A7. West Wickham A8. TSW BPlate:1. Pembroke A2. West Wickham B3. Yorkshire B4. Southsea B5. West London B6. Bristol A7. B'mounth &amp So'ton8. GlasgowBowl:1. Sussex2. Manchester B3. Yorkshire C4. Plymouth5. St Albans6. Guildford7. Isle of Wight8. Manchester CRegistration Deadline:&nbsp14th March 2026Entry Fee Payment Deadline: 1st May 2026 (please email the treasure to confirm payment to ease tracking)Player Registration Deadline: 23rd May 2026BOA Competition RulesBOA Finals RulesCaptains Briefing - tbc Directions\: https://www.google.com/maps/dir//53.38232344220118,-1.4622895684562185
END:VEVENT
END:VCALENDAR
