BEGIN:VCALENDAR
VERSION:2.0
PRODID:-//British Octopush Association//NONSGML GBUWH Event//EN
METHOD:REQUEST
BEGIN:VEVENT
LOCATION: Ponds Forge, Sheaf St, Sheffield S1 2BP	
UID:event-f0adc8838f4bdedde4ec2cfad0515589@gbuwh.co.uk
DTSTAMP:20261010T060000
DTSTART:20261010T060000
DTEND:20261010T183000
SUMMARY:BOA Nautilus 2026 - Divisions 1, 2 & 3
DESCRIPTION: Date and Location ConfirmedFurthur Details to follow: Directions\: https://www.google.com/maps/dir//53.38155,-1.46429
END:VEVENT
END:VCALENDAR
