BEGIN:VCALENDAR
VERSION:2.0
PRODID:-//British Octopush Association//NONSGML GBUWH Event//EN
METHOD:REQUEST
BEGIN:VEVENT
LOCATION: St Albans Westminster Lodge Pool  : AL1 2DL
UID:event-e2a2dcc36a08a345332c751b2f2e476c@gbuwh.co.uk
DTSTAMP:20260627T180000
DTSTART:20260627T180000
DTEND:20260627T200000
SUMMARY:East Anglia/ South East junior regional
DESCRIPTION: Junior Regionals aimed at U11, U14, U16&nbsp and will subject to interest include U18As may be apparent from the timings this event is best suited to teams within a few hours travel time.&nbspwe normally get teams about 60 minutes game time into the 2 hour slot.&nbspcontact him leicester on 07771811986 or timsleicester@gmail.com with queries.&nbsp Directions\: https://www.google.com/maps/dir//,
END:VEVENT
END:VCALENDAR
