BEGIN:VCALENDAR
VERSION:2.0
PRODID:-//British Octopush Association//NONSGML GBUWH Event//EN
METHOD:REQUEST
BEGIN:VEVENT
LOCATION: On Line
UID:event-ce78d1da254c0843eb23951ae077ff5f@gbuwh.co.uk
DTSTAMP:20260322T183000
DTSTART:20260322T183000
DTEND:20260322T200000
SUMMARY:BOA National Squads Meeting
DESCRIPTION: For anyone wishing to attend the Meeting, please advise of your attendance by either registering as "Going" on our Facebook event or emailing the BOA squads manager (squadsmgr@gbuwh.co.uk).Positions up for election are: -Women&rsquos Elite CoachMen&rsquos Elite CoachWomen&rsquos Masters CoachMen&rsquos Masters Coach Directions\: https://www.google.com/maps/dir//,
END:VEVENT
END:VCALENDAR
