BEGIN:VCALENDAR
VERSION:2.0
PRODID:-//British Octopush Association//NONSGML GBUWH Event//EN
METHOD:REQUEST
BEGIN:VEVENT
LOCATION: John Charles Aquatics centre, Leeds, LS11 5DJ
UID:event-7250eb93b3c18cc9daa29cf58af7a004@gbuwh.co.uk
DTSTAMP:20260516T131500
DTSTART:20260516T131500
DTEND:20260516T183000
SUMMARY:BOA Junior Regionals Spring 2026
DESCRIPTION: Junior Tournament:16th May 2026, John Charles Centre for Sport, Leeds (Games start at 13:30)Team registration&nbspdeadline is 15th&nbspMarch 2026Age categories: U11, U14 and U16Age categories refer to the age on 1st September 2025.Note - there is also a Masters/Vets competition being hosted at the same time/venue so please see the event page for that event if you are interested in taking part.Entry Fee - &pound80 per team&nbsp Directions\: https://www.google.com/maps/dir//,
END:VEVENT
END:VCALENDAR
