BEGIN:VCALENDAR
VERSION:2.0
PRODID:-//British Octopush Association//NONSGML GBUWH Event//EN
METHOD:REQUEST
BEGIN:VEVENT
LOCATION: John Charles Centre for Sport, Middleton Grove, Belle Isle, Leeds LS11 5DJ
UID:event-8f7d807e1f53eff5f9efbe5cb81090fb@gbuwh.co.uk
DTSTAMP:20260516T073000
DTSTART:20260516T073000
DTEND:20260517T150000
SUMMARY:GB Elite Squads Training Camp
DESCRIPTION: EM / EWSaturday 16th May 2026:&nbspBoom Pool:&nbsp 8.00am to 6.00pm&nbspSunday 17th May 2026: Boom Pool :&nbsp 8.00am to 2.00pm&nbsp&nbsp Directions\: https://www.google.com/maps/dir//,
END:VEVENT
END:VCALENDAR
