BEGIN:VCALENDAR
VERSION:2.0
PRODID:-//British Octopush Association//NONSGML GBUWH Event//EN
METHOD:REQUEST
BEGIN:VEVENT
LOCATION: K2, Pease Pottage Hill, Crawley RH11 9BQ
UID:event-fc3cf452d3da8402bebb765225ce8c0e@gbuwh.co.uk
DTSTAMP:20260815T113000
DTSTART:20260815T113000
DTEND:20260816T140000
SUMMARY:GB Elite Men Training Camp  (And possibly Masters Women)
DESCRIPTION: EM (and possibly MW)Saturday 15th August 2026:&nbspDive Pit at 2.5m 12noon to 6.00pmSunday 16th August 2026 :&nbspDive Pit at 2.5m 10.00am to 2.00pm&nbsp Directions\: https://www.google.com/maps/dir//,
END:VEVENT
END:VCALENDAR
