BEGIN:VCALENDAR
VERSION:2.0
PRODID:-//British Octopush Association//NONSGML GBUWH Event//EN
METHOD:REQUEST
BEGIN:VEVENT
LOCATION: Basingstoke Aquadrome, Worting Rd, Basingstoke RG22 6PG
UID:event-84f7e69969dea92a925508f7c1f9579a@gbuwh.co.uk
DTSTAMP:20260620T160000
DTSTART:20260620T160000
DTEND:20260620T200000
SUMMARY:GB Training Session - Masters Men
DESCRIPTION: MMSaturday 20th June 2026: Pooltime = 4.00pm to 8.00pm Directions\: https://www.google.com/maps/dir//,
END:VEVENT
END:VCALENDAR
