BEGIN:VCALENDAR
VERSION:2.0
PRODID:-//British Octopush Association//NONSGML GBUWH Event//EN
METHOD:REQUEST
BEGIN:VEVENT
LOCATION: Basingstoke Aquadrome, Worting Rd, Basingstoke RG22 6PG
UID:event-f4552671f8909587cf485ea990207f3b@gbuwh.co.uk
DTSTAMP:20260912T160000
DTSTART:20260912T160000
DTEND:20260912T200000
SUMMARY:GB Training Session - Masters Men
DESCRIPTION: MMSaturday 12th September 2026: Pooltime = 4.00pm to 8.00pm Directions\: https://www.google.com/maps/dir//,
END:VEVENT
END:VCALENDAR
