BEGIN:VCALENDAR
VERSION:2.0
PRODID:-//British Octopush Association//NONSGML GBUWH Event//EN
METHOD:REQUEST
BEGIN:VEVENT
LOCATION: JCCS, Leeds
UID:event-fe8c15fed5f808006ce95eddb7366e35@gbuwh.co.uk
DTSTAMP:20270227T090000
DTSTART:20270227T090000
DTEND:20270227T183000
SUMMARY:BOA Student Nationals 2027
DESCRIPTION: Join student teams from across the UK &amp Ireland for a day of fast-paced underwater hockey. Whether you're a new or returning player, represent your uni, get involved and cheer on your alumni team!University teams:- Team Registration (Deadline:&nbsp09/01/27)&nbsp(Note: Log in to your account to see the registration button)- Entry Fee (Deadline:&nbsp09/01/27)&nbsp(For payment details/receipts, contact: treasurer@gbuwh.co.uk)---------------------------Players at universities without a teamDraft Player Registration&nbsp(Deadline:&nbsp09/01/27)&nbsp(https://forms.gle/AhKd7zDJi9MTkV7cA)For any other questions, contact: students@gbuwh.co.uk Directions\: https://www.google.com/maps/dir//,
END:VEVENT
END:VCALENDAR
