BEGIN:VCALENDAR
VERSION:2.0
PRODID:-//British Octopush Association//NONSGML GBUWH Event//EN
METHOD:REQUEST
BEGIN:VEVENT
LOCATION: John Charles Aquatics centre, Leeds, LS11 5DJ (Provisionally booked)
UID:event-92fb0c6d1758261f10d052e6e2c1123c@gbuwh.co.uk
DTSTAMP:20270220T080000
DTSTART:20270220T080000
DTEND:20270221T170000
SUMMARY:BOA Qualifiers 2027
DESCRIPTION: Provisionally booked at John Charles but investigating other options.Further details to follow Directions\: https://www.google.com/maps/dir//,
END:VEVENT
END:VCALENDAR
