BEGIN:VCALENDAR
VERSION:2.0
PRODID:-//British Octopush Association//NONSGML GBUWH Event//EN
METHOD:REQUEST
BEGIN:VEVENT
LOCATION: John Charles Aquatics centre, Leeds, LS11 5DJ (Provisionally booked)
UID:event-22ac3c5a5bf0b520d281c122d1490650@gbuwh.co.uk
DTSTAMP:20270529T080000
DTSTART:20270529T080000
DTEND:20270529T183000
SUMMARY:BOA Masters/Vets 2027
DESCRIPTION: Further details to follow - pool provisionally booked but investigating other locations Directions\: https://www.google.com/maps/dir//,
END:VEVENT
END:VCALENDAR
