BEGIN:VCALENDAR
VERSION:2.0
PRODID:-//British Octopush Association//NONSGML GBUWH Event//EN
METHOD:REQUEST
BEGIN:VEVENT
LOCATION: Ponds Forge, Sheaf St, Sheffield S1 2BP (Provisionally booked)
UID:event-aff1621254f7c1be92f64550478c56e6@gbuwh.co.uk
DTSTAMP:20270605T080000
DTSTART:20270605T080000
DTEND:20270606T180000
SUMMARY:BOA Finals 2027
DESCRIPTION: Provisionally booked for Ponds Forge Sheffield but investigating other pool optionsFurther details to follow Directions\: https://www.google.com/maps/dir//,
END:VEVENT
END:VCALENDAR
