BEGIN:VCALENDAR
VERSION:2.0
PRODID:-//British Octopush Association//NONSGML GBUWH Event//EN
METHOD:REQUEST
BEGIN:VEVENT
LOCATION: Ponds Forge, Sheaf St, Sheffield S1 2BP (Provisionally booked)
UID:event-f7e9050c92a851b0016442ab604b0488@gbuwh.co.uk
DTSTAMP:20271009T080000
DTSTART:20271009T080000
DTEND:20271010T183000
SUMMARY:BOA Nautilus 2027
DESCRIPTION: Pond Forge Provisionally booked but investigating other pool optionsFurther details to follow Directions\: https://www.google.com/maps/dir//,
END:VEVENT
END:VCALENDAR
