BEGIN:VCALENDAR
VERSION:2.0
PRODID:-//British Octopush Association//NONSGML GBUWH Event//EN
METHOD:REQUEST
BEGIN:VEVENT
LOCATION: Aberdeen Sports Village
UID:event-addfa9b7e234254d26e9c7f2af1005cb@gbuwh.co.uk
DTSTAMP:20260530T120000
DTSTART:20260530T120000
DTEND:20260530T200000
SUMMARY:Scottish National Octopush Tournament (SNOT)
DESCRIPTION: Annual Scottish Nationals.&nbsp Open to Scottish Teams to begin with and invitation to teams of spaces) Directions\: https://www.google.com/maps/dir//,
END:VEVENT
END:VCALENDAR
