BEGIN:VCALENDAR
VERSION:2.0
PRODID:-//British Octopush Association//NONSGML GBUWH Event//EN
METHOD:REQUEST
BEGIN:VEVENT
LOCATION: Winchester Sport & Leisure Park, Hampshire, Bar End Rd, Winchester SO23 9NR
UID:event-8c235f89a8143a28a1d6067e959dd858@gbuwh.co.uk
DTSTAMP:20261114T133000
DTSTART:20261114T133000
DTEND:20261114T190000
SUMMARY:BOA 2026 Autumn/Winter Junior Regionals - Provisional Booking
DESCRIPTION: We have a provisional booking at the Winchester Sports and Lesiure Park for the Autumn/Winter Junior Regionals.Further details to follow Directions\: https://www.google.com/maps/dir//,
END:VEVENT
END:VCALENDAR
