BEGIN:VCALENDAR
VERSION:2.0
PRODID:-//British Octopush Association//NONSGML GBUWH Event//EN
METHOD:REQUEST
BEGIN:VEVENT
LOCATION: Inspire: Luton Sports Village, Butterfield Green Road, Luton, LU2 8DD
UID:event-847cc55b7032108eee6dd897f3bca8a5@gbuwh.co.uk
DTSTAMP:20270306T130000
DTSTART:20270306T130000
DTEND:20270306T190000
SUMMARY:BOA 2027 Spring Junior Regionals - Provisional Booking
DESCRIPTION: We have provisionally booked the 2027 Spring Junior Regionals on the 6th of March 2027 at Inspire: Luton Sports Village.Further details to follow Directions\: https://www.google.com/maps/dir//,
END:VEVENT
END:VCALENDAR
